{"text_format":"1","workbook":"xlsx","n_sheets":4,"sheets":["Table de Difficulté","Fiche Perso","Fiche de jeux","MaJ Fiche Perso"],"not_rendered":{"charts":0,"images":112,"macros":1,"external_links":0,"defined_names":0,"comments":2,"pivot_tables":0},"unopened":[],"bounds":{"document_bytes":16777216,"sheet_cells":100000,"rows_first":2000,"rows_last":500,"rows_between":2000,"halvings":0,"cell_chars":16384,"cell_head_chars":4096},"cells_cut":0,"cells_raw":0,"read":"whole","date_system":"1900"}

{"sheet":"Table de Difficulté","index":0,"n_rows":62,"n_cols":11,"rows_kept":62,"cut":false,"hidden":false,"merged":[]}
["Niveau","Rang","\"Savoir faire\" requis","Difficulté","Difficulté2","Marge -6","Marge -3","Marge +3","Marge +6","Marge +9","Marge +12"]
[null,null,null,null,null,-2,-1,1,2,3,4]
[1,"D2","Paralysé/assomé, mais …",1,"Inutile de tirer les dés"]
[2,"D4","Incapable",2,"Quasiment inutile de tirer",{"$f":"$D4-6","v":-4},{"$f":"$D4-3","v":-1},{"$f":"$D4+3","v":5},{"$f":"$D4+6","v":8},{"$f":"$D4+9","v":11},{"$f":"$D4+12","v":14}]
[3,"D6","Limite incapable",3,"A la portée de tous",{"$f":"$D5-6","v":-3},{"$f":"$D5-3","v":0},{"$f":"$D5+3","v":6},{"$f":"$D5+6","v":9},{"$f":"$D5+9","v":12},{"$f":"$D5+12","v":15}]
[4,"D8","Vagues capacités",4,"Presque à la portée de tous",-2,1,7,10,13,16]
[5,"D10","Curieux",5,"Enfantin",-1,2,8,11,14,17]
[6,"D12","Basiques",6,"Evident",0,3,9,12,15,18]
[7,"D14","Amateur",7,null,1,4,10,13,16,19]
[8,"D16","Débutant",8,null,2,5,11,14,17,20]
[9,"D18","Apprenti",9,"Facile",3,6,12,15,18,21]
[10,"D20","Interressé",10,null,4,7,13,16,19,22]
[11,"D22","Doué",11,null,5,8,14,17,20,23]
[12,"D24","Passionné",12,"Normal",6,9,15,18,21,24]
[13,"D26","Pro Correct",13,null,7,10,16,19,22,25]
[14,"D28","Excellent Pro",14,null,8,11,17,20,23,26]
[15,"D30","Chef d'équipe",15,"Difficile",9,12,18,21,24,27]
[16,"D32","Expert, Big Boss",16,"Très difficile",10,13,19,22,25,28]
[17,"D34","Champion internationnal",17,"Impressionnat",11,14,20,23,26,29]
[18,"D36","Grand Maître",18,"Impossible",12,15,21,24,27,30]
[19,"D38","Grand Maître Légendaire",19,"Effrayant",13,16,22,25,28,31]
[20,"D40","Monstre",20,"Irréalisable",14,17,23,26,29,32]
[null,null,"Hors-norme",21,"Surhumain",15,18,24,27,30,33]
[null,null,"Métahumain",22,"Monstrueux",16,19,25,28,31,34]
[null,null,"Demi-dieu",23,"Indicible",17,20,26,29,32,35]
[null,null,null,24,null,18,21,27,30,33,36]
[null,null,null,25,null,19,22,28,31,34,37]
[null,null,null,26,null,20,23,29,32,35,38]
[null,null,null,27,null,21,24,30,33,36,39]
[null,null,null,28,null,22,25,31,34,37,40]
[null,null,null,29,null,23,26,32,35,38,41]
[null,null,null,30,null,24,27,33,36,39,42]
[null,null,null,31,null,25,28,34,37,40,43]
[null,null,null,32,null,26,29,35,38,41,44]
[null,null,null,33,null,27,30,36,39,42,45]
[null,null,null,34,null,28,31,37,40,43,46]
[null,null,null,35,null,29,32,38,41,44,47]
[null,null,null,36,null,30,33,39,42,45,48]
[null,null,null,37,null,31,34,40,43,46,49]
[null,null,null,38,null,32,35,41,44,47,50]
[null,null,null,39,null,33,36,42,45,48,51]
[null,null,null,40,null,34,37,43,46,49,52]
[null,null,null,41,null,35,38,44,47,50,53]
[null,null,null,42,null,36,39,45,48,51,54]
[null,null,null,43,null,37,40,46,49,52,55]
[null,null,null,44,null,38,41,47,50,53,56]
[null,null,null,45,null,39,42,48,51,54,57]
[null,null,null,46,null,40,43,49,52,55,58]
[null,null,null,47,null,41,44,50,53,56,59]
[null,null,null,48,null,42,45,51,54,57,60]
[null,null,null,49,null,43,46,52,55,58,61]
[null,null,null,50,null,44,47,53,56,59,62]
[null,null,null,51,null,45,48,54,57,60,63]
[null,null,null,52,null,46,49,55,58,61,64]
[null,null,null,53,null,47,50,56,59,62,65]
[null,null,null,54,null,48,51,57,60,63,66]
[null,null,null,55,null,49,52,58,61,64,67]
[null,null,null,56,null,50,53,59,62,65,68]
[null,null,null,57,null,51,54,60,63,66,69]
[null,null,null,58,null,52,55,61,64,67,70]
[null,null,null,59,null,53,56,62,65,68,71]
[null,null,null,60,null,54,57,63,66,69,72]

{"sheet":"Fiche Perso","index":1,"n_rows":39,"n_cols":17,"rows_kept":39,"cut":false,"hidden":false,"merged":[[19,0,38,0],[0,0,17,0],[13,2,15,2],[13,3,15,3]]}
["Traits",null,"Esprit",null,null,null,"Défense",{"$f":"(H28+P19+MAX(D2,D10))/2","v":10}]
[null,null,"Vivacité",6,null,null,"Initiative",{"$f":"P19","v":8},{"$f":"D2","v":6}]
[null,null,"Réflexion",8,null,null,"Esquive",{"$f":"$P$20","v":-2},{"$f":"$D$10","v":8},null,{"$f":"P19","v":8}]
[null,null,"Caractère",8,null,null,null,null,"Pts restants"]
[null,null,"Eveil",null,null,null,"Points de vie",{"$f":"D12+4","v":12},12,null,null,null,"Spés"]
[null,null,"Sens",10,"Pts restants",null,"Points de mêlée",{"$f":"H5+P19","v":20},20,null,null,null,1,null,"Vrai nature / Gens",2]
[null,null,"Ardence",8,8,null,null,null,null,null,null,null,2,null,"Storytelling / Conte",0]
[null,null,"Résonnance",8,4,null,"Avantage",{"$f":"I8+IF(H5-I5<=4,0,IF((H5-I5)<D12,-1,-2))","v":0},0,null,null,null,3,null,"Influence",4]
[null,null,"Corps",null,null,null,null,null,null,null,null,null,4,null,"Chef d'œuvre (arts)",0]
[null,null,"Adresse",8,null,null,"Xp",0,null,null,null,null,5,null,"Réseaux / Liens",4]
[null,null,"Force",8,null,null,null,null,null,null,null,null,6,null,"Débattre / Marchander",8]
[null,null,"Endurance",8,null,null,null,null,null,null,null,null,7,null,"Confident (secret…)",0]
[null,null,"Pouvoirs Résonants et MeGa",null,"Niveaux",null,null,"Présence d'esprit",null,null,null,null,8]
[null,null,"Psi",6,10,null,10,"Médium",null,null,null,null,9]
[null,null,null,null,1,null,1,"Symboles et intentions",null,null,null,null,10]
[]
[null,null,"Transit",6,6,null,12]
[null,null,"Transfert",6,5,null,10]
["Domaines",null,"Communication",10,"Spés",null,"Pratique",8,"Spés",null,"Culture milieux …",4,"Spés",null,"Combat",8,"Spés"]
["Talents",2,"Interpréter",4,"1 2 3 4 6 7",6,"Observer",8,2,3,"Habités",0,"2 4 5",10,"Mains nues",-2]
[null,6,"Language corporel",{"$f":"$D$20+2","v":6},{"$f":"IF(E20=\"\",\"\",E20)","v":"1 2 3 4 6 7"},6,"Chercher objet",{"$f":"$H$20+2","v":10},{"$f":"IF(I20=\"\",\"\",I20)","v":2},3,"Mégalopoles",{"$f":"$L$20","v":0},{"$f":"IF(M20=\"\",\"\",M20)","v":"2 4 5"},10,"Bagarre aux poings",{"$f":"$P$20","v":-2},{"$f":"IF(Q20=\"\",\"\",Q20)","v":""}]
[null,3,"Codes",{"$f":"$D$20-2","v":2},{"$f":"IF(E20=\"\",\"\",E20)","v":"1 2 3 4 6 7"},6,"Remarquer détail",{"$f":"$H$20","v":8},{"$f":"IF(I20=\"\",\"\",I20)","v":2},3,"Cités",{"$f":"$L$20+2","v":2},{"$f":"IF(M20=\"\",\"\",M20)","v":"2 4 5"},10,"Lutte",{"$f":"$P$20-1","v":-3},{"$f":"IF(Q20=\"\",\"\",Q20)","v":""}]
[null,4,"Expressions artistiques",{"$f":"$D$20","v":4},{"$f":"IF(E20=\"\",\"\",E20)","v":"1 2 3 4 6 7"},6,"Veille Vigilance",{"$f":"$H$20-2","v":6},{"$f":"IF(I20=\"\",\"\",I20)","v":2},3,"Rural",{"$f":"$L$20-2","v":-2},{"$f":"IF(M20=\"\",\"\",M20)","v":"2 4 5"},10,"Kung-fu like",{"$f":"$P$20+1","v":-1},{"$f":"IF(Q20=\"\",\"\",Q20)","v":""}]
[null,4,"Paraître",2,"3 6",10,"Furtivité",6,null,6,"Sauvages",0,null,10,"Armes courtes",6]
[null,4,"Bluffer Déguisement",{"$f":"$D$24+2","v":4},{"$f":"IF(E24=\"\",\"\",E24)","v":"3 6"},10,"Agir sans bruit",{"$f":"$H$24+2","v":8},{"$f":"IF(I24=\"\",\"\",I24)","v":""},6,"Forêt Jungle",{"$f":"$L$24-2","v":-2},{"$f":"IF(M24=\"\",\"\",M24)","v":""},10,"Dague",{"$f":"$P$24+2","v":8},{"$f":"IF(Q24=\"\",\"\",Q24)","v":""}]
[null,4,"Impressionner",{"$f":"$D$24-2","v":0},{"$f":"IF(E24=\"\",\"\",E24)","v":"3 6"},10,"Se dissimuler Filer",{"$f":"$H$24","v":6},{"$f":"IF(I24=\"\",\"\",I24)","v":""},6,"Savane Steppe Marécages",{"$f":"$L$24","v":0},{"$f":"IF(M24=\"\",\"\",M24)","v":""},10,"Matraque",{"$f":"$P$24-2","v":4},{"$f":"IF(Q24=\"\",\"\",Q24)","v":""}]
[null,4,"Paraître sans intérêt",{"$f":"$D$24","v":2},{"$f":"IF(E24=\"\",\"\",E24)","v":"3 6"},10,"Camouflage",{"$f":"$H$24-2","v":4},{"$f":"IF(I24=\"\",\"\",I24)","v":""},6,"Déserts",{"$f":"$L$24+2","v":2},{"$f":"IF(M24=\"\",\"\",M24)","v":""},10,"Hache",{"$f":"$P$24","v":6},{"$f":"IF(Q24=\"\",\"\",Q24)","v":""}]
[null,4,"Persuader",8,"3 6",10,"Acrobaties",4,null,3,"Scientechs",0,null,10,"Armes longues",4]
[null,4,"Convaincre Expliquer",{"$f":"$D$28+2","v":10},{"$f":"IF(E28=\"\",\"\",E28)","v":"3 6"},10,"Minutie",{"$f":"$H$28-2","v":2},{"$f":"IF(I28=\"\",\"\",I28)","v":""},3,"Indus",{"$f":"$L$28-2","v":-2},{"$f":"IF(M28=\"\",\"\",M28)","v":""},10,"Arme de pointe",{"$f":"$P$28-2","v":2},{"$f":"IF(Q28=\"\",\"\",Q28)","v":""}]
[null,4,"Baratiner Tromper Culot",{"$f":"$D$28-2","v":6},{"$f":"IF(E28=\"\",\"\",E28)","v":"3 6"},10,"Acrobatie",{"$f":"$H$28+2","v":6},{"$f":"IF(I28=\"\",\"\",I28)","v":""},3,"Militaire",{"$f":"$L$28","v":0},{"$f":"IF(M28=\"\",\"\",M28)","v":""},10,"Sabre Katana",{"$f":"$P$28+2","v":6},{"$f":"IF(Q28=\"\",\"\",Q28)","v":""}]
[null,4,"Imposer ses vues",{"$f":"$D$28","v":8},{"$f":"IF(E28=\"\",\"\",E28)","v":"3 6"},12,"Effort prolongé",{"$f":"$H$28","v":4},{"$f":"IF(I28=\"\",\"\",I28)","v":""},3,"Vaisseaux",{"$f":"$L$28+2","v":2},{"$f":"IF(M28=\"\",\"\",M28)","v":""},10,"Bâton Lance",{"$f":"$P$28","v":4},{"$f":"IF(Q28=\"\",\"\",Q28)","v":""}]
[null,4,"Tisser des liens",8,"5 7",10,"Manips",6,4,3,"Pouvoir",10,null,6,"Lancer",4]
[null,4,"Charmer Captiver Apprivoiser",{"$f":"$D$32","v":8},{"$f":"IF(E32=\"\",\"\",E32)","v":"5 7"},10,"Vivant",{"$f":"$H$32+2","v":8},{"$f":"IF(I32=\"\",\"\",I32)","v":4},3,"Business",{"$f":"$L$32-2","v":8},{"$f":"IF(M32=\"\",\"\",M32)","v":""},6,"Pierres Objets",{"$f":"$P$32","v":4},{"$f":"IF(Q32=\"\",\"\",Q32)","v":""}]
[null,4,"Inspirer fidélité ou respect",{"$f":"$D$32+2","v":10},{"$f":"IF(E32=\"\",\"\",E32)","v":"5 7"},10,"Mécanique",{"$f":"$H$32-2","v":4},{"$f":"IF(I32=\"\",\"\",I32)","v":4},3,"Autorités",{"$f":"$L$32+2","v":12},{"$f":"IF(M32=\"\",\"\",M32)","v":""},6,"Lame Shuriken",{"$f":"$P$32+2","v":6},{"$f":"IF(Q32=\"\",\"\",Q32)","v":""}]
[null,4,"Assujettir Dompter",{"$f":"$D$32-2","v":6},{"$f":"IF(E32=\"\",\"\",E32)","v":"5 7"},10,"Electronique",{"$f":"$H$32","v":6},{"$f":"IF(I32=\"\",\"\",I32)","v":4},3,"Spirituel",{"$f":"$L$32","v":10},{"$f":"IF(M32=\"\",\"\",M32)","v":""},6,"Lasso Bolas Fouet",{"$f":"$P$32-2","v":2},{"$f":"IF(Q32=\"\",\"\",Q32)","v":""}]
[null,4,"Diriger",4,null,10,"Conduire","X",null,4,"Clandestins",0,null,6,"Tir",8]
[null,4,"Coordonner (les autres)",{"$f":"$D$36-2","v":2},{"$f":"IF(E36=\"\",\"\",E36)","v":""},10,"Animal","X",{"$f":"IF(I36=\"\",\"\",I36)","v":""},4,"Pègre",{"$f":"$L$36-2","v":-2},{"$f":"IF(M36=\"\",\"\",M36)","v":""},6,"Pistolet Fusil",{"$f":"$P$36+2","v":10},{"$f":"IF(Q36=\"\",\"\",Q36)","v":""}]
[null,4,"Commander",{"$f":"$D$36+2","v":6},{"$f":"IF(E36=\"\",\"\",E36)","v":""},2,"Véhicules légers","X",{"$f":"IF(I36=\"\",\"\",I36)","v":""},4,"Contestation",{"$f":"$L$36+2","v":2},{"$f":"IF(M36=\"\",\"\",M36)","v":""},6,"Laser paralysant",{"$f":"$P$36","v":8},{"$f":"IF(Q36=\"\",\"\",Q36)","v":""}]
[null,4,"Former",{"$f":"$D$36","v":4},{"$f":"IF(E36=\"\",\"\",E36)","v":""},3,"Véhicules lourds","X",{"$f":"IF(I36=\"\",\"\",I36)","v":""},4,"Marge",{"$f":"$L$36","v":0},{"$f":"IF(M36=\"\",\"\",M36)","v":""},6,"Armes lourdes",{"$f":"$P$36-2","v":6},{"$f":"IF(Q36=\"\",\"\",Q36)","v":""}]

{"sheet":"Fiche de jeux","index":2,"n_rows":26,"n_cols":18,"rows_kept":26,"cut":false,"hidden":false,"merged":[[22,0,24,10]]}
[]
[]
[]
[null,null,null,null,null,null,null,null,null,null,null,null,null,null,null,null,"Esprit"]
[null,null,null,null,null,null,null,"Nature du monde exploré",null,null,null,"Expérience",null,null,null,null,"Vivacité",{"$f":"'Fiche Perso'!D2","v":6}]
[null,null,null,null,null,null,null,false,true,false,null,"Pt acquis",null,"Pt restants",{"$f":"'Fiche Perso'!H10","v":0},null,"Réflexion",{"$f":"'Fiche Perso'!D3","v":8}]
[null,null,null,null,null,null,null,false,{"$f":"IF(H6,-2,IF(H7,-4,IF(J6,2,IF(J7,4,0))))","v":0},false,null,null,null,null,null,null,"Caractère",{"$f":"'Fiche Perso'!D4","v":8}]
[null,null,null,null,null,null,null,null,null,null,null,null,null,null,null,null,"Eveil"]
[null,null,null,null,null,null,null,null,null,null,null,"Défense",{"$f":"('Fiche Perso'!H28+'Fiche Perso'!P19+MAX('Fiche Perso'!D2,'Fiche Perso'!D10))/2","v":10},null,null,null,"Sens",{"$f":"'Fiche Perso'!D6","v":10}]
[null,null,null,null,null,null,null,null,null,null,null,"Initiative",{"$f":"'Fiche Perso'!P19","v":8},{"$f":"'Fiche Perso'!D2","v":6},null,null,"Ardence",{"$f":"'Fiche Perso'!D7","v":8}]
[null,null,null,null,null,null,null,null,null,null,null,"Esquive",{"$f":"'Fiche Perso'!H28","v":4},{"$f":"'Fiche Perso'!D2","v":6},{"$f":"'Fiche Perso'!P19","v":8},null,"Résonnance",{"$f":"'Fiche Perso'!D8","v":8}]
[null,null,null,null,null,null,null,null,null,null,null,null,null,null,null,null,"Corps"]
[null,null,null,null,null,null,null,null,null,null,null,null,null,null,null,null,"Adresse",{"$f":"'Fiche Perso'!D10","v":8}]
[null,null,null,null,null,null,null,null,null,null,null,null,null,null,null,null,"Force",{"$f":"'Fiche Perso'!D11","v":8}]
[null,null,null,null,null,null,null,null,null,null,null,null,null,null,null,null,"Endurance",{"$f":"'Fiche Perso'!D12","v":8}]
[null,null,null,null,null,null,null,null,null,null,null,null,null,null,null,"Pouvoirs Résonants et MeGa"]
[null,null,null,null,null,null,null,null,null,null,null,null,null,null,null,"Psi",null,{"$f":"'Fiche Perso'!D14","v":6}]
[null,null,null,null,null,null,null,null,null,null,null,null,null,null,null,"Transit",null,{"$f":"'Fiche Perso'!D17","v":6}]
[null,null,null,null,null,null,null,null,null,null,null,"Niveau des pouvoirs résonnants",null,null,null,"Transfert",null,{"$f":"'Fiche Perso'!D18","v":6}]
[null,null,null,null,null,null,null,null,null,null,null,{"$f":"\"Psi - \" &'Fiche Perso'!H13","v":"Psi - Présence d'esprit"}]
[null,null,null,null,null,null,null,null,null,null,null,{"$f":"IF('Fiche Perso'!H14<>\"\",'Fiche Perso'!H14,\"/\")","v":"Médium"},null,{"$f":"'Fiche Perso'!E14 & \"/\" & 'Fiche Perso'!G14","v":"10/10"},"Pts d'Ardence",null,{"$f":"'Fiche Perso'!E7 & \"/\" & 'Fiche Perso'!D7","v":"8/8"}]
[null,null,null,null,null,null,null,null,null,null,null,{"$f":"IF('Fiche Perso'!H15<>\"\",'Fiche Perso'!H15,\"/\")","v":"Symboles et intentions"},null,{"$f":"'Fiche Perso'!E15 & \"/\" & 'Fiche Perso'!G15","v":"1/1"},"Pts de Résonnance",null,{"$f":"'Fiche Perso'!E8 & \"/\" & 'Fiche Perso'!D8/2","v":"4/4"}]
["Fichier créé par Guillaume BOUQUET\nContact : bouguifou@yahoo.fr",null,null,null,null,null,null,null,null,null,null,{"$f":"IF('Fiche Perso'!H16<>\"\",'Fiche Perso'!H16,\"/\")","v":"/"},null,{"$f":"'Fiche Perso'!E16 & \"/\" & 'Fiche Perso'!G16","v":"/"},"Pts de Vie",null,{"$f":"'Fiche Perso'!I5 & \"/\" & 'Fiche Perso'!H5","v":"12/12"}]
[null,null,null,null,null,null,null,null,null,null,null,"Niveau des pouvoirs MeGa",null,null,"Pts de Mêlée",null,{"$f":"'Fiche Perso'!I6 & \"/\" & 'Fiche Perso'!H6","v":"20/20"}]
[null,null,null,null,null,null,null,null,null,null,null,"Transit",null,{"$f":"'Fiche Perso'!E17 & \"/\" & 'Fiche Perso'!G17","v":"6/12"},"Avantage",null,{"$f":"'Fiche Perso'!I8 & \" Av.\"","v":"0 Av."}]
["Version V3.2",null,null,null,null,null,null,null,null,null,"Mise à jour le 03/04/2022","Transfert",null,{"$f":"'Fiche Perso'!E18 & \"/\" & 'Fiche Perso'!G18","v":"5/10"},"Malus de Santé",null,{"$f":"'Fiche Perso'!H8-'Fiche Perso'!I8","v":0}]

{"sheet":"MaJ Fiche Perso","index":3,"n_rows":0,"n_cols":0,"rows_kept":0,"cut":false,"hidden":true,"merged":[]}